Package: PROMISE Version: 1.58.0 Command: /Library/Frameworks/R.framework/Resources/bin/R CMD check --install=check:PROMISE.install-out.txt --library=/Library/Frameworks/R.framework/Resources/library --no-vignettes --timings PROMISE_1.58.0.tar.gz StartedAt: 2025-01-28 08:28:51 -0500 (Tue, 28 Jan 2025) EndedAt: 2025-01-28 08:32:50 -0500 (Tue, 28 Jan 2025) EllapsedTime: 238.6 seconds RetCode: 0 Status: OK CheckDir: PROMISE.Rcheck Warnings: 0