Package: PROMISE Version: 1.58.0 Command: /Library/Frameworks/R.framework/Resources/bin/R CMD check --install=check:PROMISE.install-out.txt --library=/Library/Frameworks/R.framework/Resources/library --no-vignettes --timings PROMISE_1.58.0.tar.gz StartedAt: 2025-01-29 05:05:27 -0500 (Wed, 29 Jan 2025) EndedAt: 2025-01-29 05:07:27 -0500 (Wed, 29 Jan 2025) EllapsedTime: 119.7 seconds RetCode: 0 Status: OK CheckDir: PROMISE.Rcheck Warnings: 0