Package: PROMISE Version: 1.58.0 Command: /Library/Frameworks/R.framework/Resources/bin/R CMD build --keep-empty-dirs --no-resave-data PROMISE StartedAt: 2025-04-01 05:26:02 -0400 (Tue, 01 Apr 2025) EndedAt: 2025-04-01 05:26:32 -0400 (Tue, 01 Apr 2025) EllapsedTime: 30.8 seconds RetCode: 0 Status: OK PackageFile: PROMISE_1.58.0.tar.gz PackageFileSize: 135.3 KiB