Package: PREDA Version: 1.52.0 Command: /Library/Frameworks/R.framework/Resources/bin/R CMD check --install=check:PREDA.install-out.txt --library=/Library/Frameworks/R.framework/Resources/library --no-vignettes --timings PREDA_1.52.0.tar.gz StartedAt: 2025-01-28 08:23:54 -0500 (Tue, 28 Jan 2025) EndedAt: 2025-01-28 08:28:11 -0500 (Tue, 28 Jan 2025) EllapsedTime: 257.4 seconds RetCode: 0 Status: WARNINGS CheckDir: PREDA.Rcheck Warnings: 1