Package: PPInfer Version: 1.32.0 Command: rm -rf PPInfer.buildbin-libdir && mkdir PPInfer.buildbin-libdir && /Users/biocbuild/BBS/utils/build-universal.sh PPInfer_1.32.0.tar.gz /Library/Frameworks/R.framework/Resources/bin/R PPInfer.buildbin-libdir StartedAt: 2025-01-28 14:08:33 -0500 (Tue, 28 Jan 2025) EndedAt: 2025-01-28 14:10:06 -0500 (Tue, 28 Jan 2025) EllapsedTime: 92.5 seconds RetCode: 0 Status: OK PackageFile: PPInfer_1.32.0.tgz PackageFileSize: 386.5 KiB