Package: PPInfer Version: 1.32.0 Command: /Library/Frameworks/R.framework/Resources/bin/R CMD check --install=check:PPInfer.install-out.txt --library=/Library/Frameworks/R.framework/Resources/library --no-vignettes --timings PPInfer_1.32.0.tar.gz StartedAt: 2025-01-29 04:51:04 -0500 (Wed, 29 Jan 2025) EndedAt: 2025-01-29 04:59:50 -0500 (Wed, 29 Jan 2025) EllapsedTime: 526.0 seconds RetCode: 0 Status: OK CheckDir: PPInfer.Rcheck Warnings: 0