Package: POWSC Version: 1.14.0 Command: /home/biocbuild/bbs-3.20-bioc/R/bin/R CMD INSTALL POWSC StartedAt: 2025-02-10 15:21:18 -0500 (Mon, 10 Feb 2025) EndedAt: 2025-02-10 15:21:43 -0500 (Mon, 10 Feb 2025) EllapsedTime: 24.8 seconds RetCode: 0 Status: OK