Package: POWSC Version: 1.14.0 Command: /Library/Frameworks/R.framework/Resources/bin/R CMD build --keep-empty-dirs --no-resave-data POWSC StartedAt: 2025-02-03 21:21:53 -0500 (Mon, 03 Feb 2025) EndedAt: 2025-02-03 21:24:49 -0500 (Mon, 03 Feb 2025) EllapsedTime: 176.0 seconds RetCode: 0 Status: OK PackageFile: POWSC_1.14.0.tar.gz PackageFileSize: 1.14 MiB