Package: POWSC Version: 1.14.0 Command: /home/biocbuild/R/R/bin/R CMD build --keep-empty-dirs --no-resave-data POWSC StartedAt: 2024-11-20 03:00:40 -0000 (Wed, 20 Nov 2024) EndedAt: 2024-11-20 03:02:32 -0000 (Wed, 20 Nov 2024) EllapsedTime: 112.2 seconds RetCode: 0 Status: OK PackageFile: POWSC_1.14.0.tar.gz PackageFileSize: 1.171 MiB