Package: POWSC Version: 1.14.0 Command: /Library/Frameworks/R.framework/Resources/bin/R CMD build --keep-empty-dirs --no-resave-data POWSC StartedAt: 2025-02-04 05:40:42 -0500 (Tue, 04 Feb 2025) EndedAt: 2025-02-04 05:42:16 -0500 (Tue, 04 Feb 2025) EllapsedTime: 93.8 seconds RetCode: 0 Status: OK PackageFile: POWSC_1.14.0.tar.gz PackageFileSize: 1.14 MiB