Package: PLSDAbatch Version: 1.2.0 Command: /home/biocbuild/R/R/bin/R CMD build --keep-empty-dirs --no-resave-data PLSDAbatch StartedAt: 2025-01-28 02:23:44 -0000 (Tue, 28 Jan 2025) EndedAt: 2025-01-28 02:25:21 -0000 (Tue, 28 Jan 2025) EllapsedTime: 97.0 seconds RetCode: 0 Status: OK PackageFile: PLSDAbatch_1.2.0.tar.gz PackageFileSize: 1.205 MiB