Package: PLSDAbatch Version: 1.2.0 Command: /Library/Frameworks/R.framework/Resources/bin/R CMD check --install=check:PLSDAbatch.install-out.txt --library=/Library/Frameworks/R.framework/Resources/library --no-vignettes --timings PLSDAbatch_1.2.0.tar.gz StartedAt: 2025-01-28 08:18:23 -0500 (Tue, 28 Jan 2025) EndedAt: 2025-01-28 08:28:01 -0500 (Tue, 28 Jan 2025) EllapsedTime: 578.1 seconds RetCode: 0 Status: OK CheckDir: PLSDAbatch.Rcheck Warnings: 0