Package: PLSDAbatch Version: 1.2.0 Command: /home/biocbuild/R/R/bin/R CMD INSTALL PLSDAbatch StartedAt: 2024-11-19 21:29:17 -0000 (Tue, 19 Nov 2024) EndedAt: 2024-11-19 21:30:17 -0000 (Tue, 19 Nov 2024) EllapsedTime: 60.3 seconds RetCode: 0 Status: OK