Package: PLSDAbatch Version: 1.2.0 Command: /Library/Frameworks/R.framework/Resources/bin/R CMD INSTALL PLSDAbatch StartedAt: 2024-11-08 15:50:01 -0500 (Fri, 08 Nov 2024) EndedAt: 2024-11-08 15:50:17 -0500 (Fri, 08 Nov 2024) EllapsedTime: 16.3 seconds RetCode: 0 Status: OK