Package: PLSDAbatch Version: 1.2.0 Command: /Library/Frameworks/R.framework/Resources/bin/R CMD build --keep-empty-dirs --no-resave-data PLSDAbatch StartedAt: 2024-11-08 18:35:12 -0500 (Fri, 08 Nov 2024) EndedAt: 2024-11-08 18:35:43 -0500 (Fri, 08 Nov 2024) EllapsedTime: 30.3 seconds RetCode: 0 Status: OK PackageFile: PLSDAbatch_1.2.0.tar.gz PackageFileSize: 1.621 MiB