Package: PLSDAbatch Version: 1.2.0 Command: /Library/Frameworks/R.framework/Resources/bin/R CMD INSTALL PLSDAbatch StartedAt: 2025-01-27 18:16:00 -0500 (Mon, 27 Jan 2025) EndedAt: 2025-01-27 18:16:52 -0500 (Mon, 27 Jan 2025) EllapsedTime: 51.8 seconds RetCode: 0 Status: OK