Package: PLPE Version: 1.66.0 Command: /home/biocbuild/R/R/bin/R CMD INSTALL PLPE StartedAt: 2025-01-27 21:03:39 -0000 (Mon, 27 Jan 2025) EndedAt: 2025-01-27 21:04:07 -0000 (Mon, 27 Jan 2025) EllapsedTime: 27.7 seconds RetCode: 0 Status: OK