Package: PLPE Version: 1.66.0 Command: chmod a+r PLPE -R && F:\biocbuild\bbs-3.20-bioc\R\bin\R.exe CMD build --keep-empty-dirs --no-resave-data PLPE StartedAt: 2025-03-31 21:03:57 -0400 (Mon, 31 Mar 2025) EndedAt: 2025-03-31 21:04:13 -0400 (Mon, 31 Mar 2025) EllapsedTime: 15.5 seconds RetCode: 0 Status: OK PackageFile: PLPE_1.66.0.tar.gz PackageFileSize: 155.9 KiB