Package: PIUMA Version: 1.2.0 Command: chmod a+r PIUMA -R && F:\biocbuild\bbs-3.20-bioc\R\bin\R.exe CMD build --keep-empty-dirs --no-resave-data PIUMA StartedAt: 2025-03-31 21:02:20 -0400 (Mon, 31 Mar 2025) EndedAt: 2025-03-31 21:04:24 -0400 (Mon, 31 Mar 2025) EllapsedTime: 124.0 seconds RetCode: 0 Status: OK PackageFile: PIUMA_1.2.0.tar.gz PackageFileSize: 3.721 MiB