Package: PIPETS Version: 1.2.0 Command: F:\biocbuild\bbs-3.20-bioc\R\bin\R.exe CMD INSTALL PIPETS StartedAt: 2025-03-31 15:47:44 -0400 (Mon, 31 Mar 2025) EndedAt: 2025-03-31 15:48:01 -0400 (Mon, 31 Mar 2025) EllapsedTime: 16.3 seconds RetCode: 0 Status: OK