Package: PIPETS Version: 1.2.0 Command: chmod a+r PIPETS -R && F:\biocbuild\bbs-3.20-bioc\R\bin\R.exe CMD build --keep-empty-dirs --no-resave-data PIPETS StartedAt: 2025-01-27 21:05:24 -0500 (Mon, 27 Jan 2025) EndedAt: 2025-01-27 21:05:50 -0500 (Mon, 27 Jan 2025) EllapsedTime: 25.6 seconds RetCode: 0 Status: OK PackageFile: PIPETS_1.2.0.tar.gz PackageFileSize: 2.882 MiB