Package: PIPETS Version: 1.2.0 Command: rm -rf PIPETS.buildbin-libdir && mkdir PIPETS.buildbin-libdir && F:\biocbuild\bbs-3.20-bioc\R\bin\R.exe CMD INSTALL --build --library=PIPETS.buildbin-libdir PIPETS_1.2.0.tar.gz StartedAt: 2025-04-01 08:52:51 -0400 (Tue, 01 Apr 2025) EndedAt: 2025-04-01 08:53:06 -0400 (Tue, 01 Apr 2025) EllapsedTime: 15.1 seconds RetCode: 0 Status: OK PackageFile: PIPETS_1.2.0.zip PackageFileSize: 1.309 MiB