Package: PIPETS Version: 1.2.0 Command: /Library/Frameworks/R.framework/Resources/bin/R CMD build --keep-empty-dirs --no-resave-data PIPETS StartedAt: 2025-01-27 21:33:55 -0500 (Mon, 27 Jan 2025) EndedAt: 2025-01-27 21:34:44 -0500 (Mon, 27 Jan 2025) EllapsedTime: 49.3 seconds RetCode: 0 Status: OK PackageFile: PIPETS_1.2.0.tar.gz PackageFileSize: 2.882 MiB