Package: PING Version: 2.50.0 Command: F:\biocbuild\bbs-3.20-bioc\R\bin\R.exe CMD INSTALL PING StartedAt: 2025-01-27 17:06:44 -0500 (Mon, 27 Jan 2025) EndedAt: 2025-01-27 17:08:07 -0500 (Mon, 27 Jan 2025) EllapsedTime: 82.8 seconds RetCode: 0 Status: OK