Package: PING Version: 2.50.0 Command: rm -rf PING.buildbin-libdir && mkdir PING.buildbin-libdir && F:\biocbuild\bbs-3.20-bioc\R\bin\R.exe CMD INSTALL --build --library=PING.buildbin-libdir PING_2.50.0.tar.gz StartedAt: 2025-01-28 08:49:07 -0500 (Tue, 28 Jan 2025) EndedAt: 2025-01-28 08:50:22 -0500 (Tue, 28 Jan 2025) EllapsedTime: 74.6 seconds RetCode: 0 Status: OK PackageFile: PING_2.50.0.zip PackageFileSize: 5.506 MiB