Package: PICS Version: 2.50.0 Command: F:\biocbuild\bbs-3.20-bioc\R\bin\R.exe CMD check --no-multiarch --install=check:PICS.install-out.txt --library=F:\biocbuild\bbs-3.20-bioc\R\library --no-vignettes --timings PICS_2.50.0.tar.gz StartedAt: 2025-04-01 04:35:51 -0400 (Tue, 01 Apr 2025) EndedAt: 2025-04-01 04:39:19 -0400 (Tue, 01 Apr 2025) EllapsedTime: 207.7 seconds RetCode: 0 Status: OK CheckDir: PICS.Rcheck Warnings: 0