Package: PICS Version: 2.50.0 Command: /Library/Frameworks/R.framework/Resources/bin/R CMD INSTALL PICS StartedAt: 2025-01-27 15:35:24 -0500 (Mon, 27 Jan 2025) EndedAt: 2025-01-27 15:36:32 -0500 (Mon, 27 Jan 2025) EllapsedTime: 67.9 seconds RetCode: 0 Status: OK