Package: PECA Version: 1.42.0 Command: /home/biocbuild/R/R/bin/R CMD INSTALL PECA StartedAt: 2025-01-27 21:45:51 -0000 (Mon, 27 Jan 2025) EndedAt: 2025-01-27 21:46:17 -0000 (Mon, 27 Jan 2025) EllapsedTime: 26.5 seconds RetCode: 0 Status: OK