Package: PDATK Version: 1.14.0 Command: rm -rf PDATK.buildbin-libdir && mkdir PDATK.buildbin-libdir && F:\biocbuild\bbs-3.20-bioc\R\bin\R.exe CMD INSTALL --build --library=PDATK.buildbin-libdir PDATK_1.14.0.tar.gz StartedAt: 2025-02-04 09:09:12 -0500 (Tue, 04 Feb 2025) EndedAt: 2025-02-04 09:11:26 -0500 (Tue, 04 Feb 2025) EllapsedTime: 134.7 seconds RetCode: 0 Status: OK PackageFile: PDATK_1.14.0.zip PackageFileSize: 2.556 MiB