Package: PDATK Version: 1.14.0 Command: /home/biocbuild/bbs-3.20-bioc/R/bin/R CMD INSTALL PDATK StartedAt: 2025-02-10 16:04:28 -0500 (Mon, 10 Feb 2025) EndedAt: 2025-02-10 16:05:06 -0500 (Mon, 10 Feb 2025) EllapsedTime: 38.4 seconds RetCode: 0 Status: OK