Package: PDATK Version: 1.14.0 Command: /home/biocbuild/bbs-3.20-bioc/R/bin/R CMD check --install=check:PDATK.install-out.txt --library=/home/biocbuild/bbs-3.20-bioc/R/site-library --timings PDATK_1.14.0.tar.gz StartedAt: 2025-02-11 00:57:44 -0500 (Tue, 11 Feb 2025) EndedAt: 2025-02-11 01:03:48 -0500 (Tue, 11 Feb 2025) EllapsedTime: 363.4 seconds RetCode: 0 Status: WARNINGS CheckDir: PDATK.Rcheck Warnings: 2