Package: PDATK Version: 1.14.0 Command: /home/biocbuild/bbs-3.20-bioc/R/bin/R CMD build --keep-empty-dirs --no-resave-data --md5 PDATK StartedAt: 2025-02-03 18:41:39 -0500 (Mon, 03 Feb 2025) EndedAt: 2025-02-03 18:43:21 -0500 (Mon, 03 Feb 2025) EllapsedTime: 102.1 seconds RetCode: 0 Status: OK PackageFile: PDATK_1.14.0.tar.gz PackageFileSize: 3.009 MiB