Package: PCAtools Version: 2.18.0 Command: /home/biocbuild/R/R/bin/R CMD check --install=check:PCAtools.install-out.txt --library=/home/biocbuild/R/R/site-library --no-vignettes --timings PCAtools_2.18.0.tar.gz StartedAt: 2025-01-28 09:55:02 -0000 (Tue, 28 Jan 2025) EndedAt: 2025-01-28 09:59:16 -0000 (Tue, 28 Jan 2025) EllapsedTime: 254.2 seconds RetCode: 0 Status: OK CheckDir: PCAtools.Rcheck Warnings: 0