Package: PCAtools Version: 2.18.0 Command: /Library/Frameworks/R.framework/Resources/bin/R CMD INSTALL PCAtools StartedAt: 2025-01-27 16:33:44 -0500 (Mon, 27 Jan 2025) EndedAt: 2025-01-27 16:34:55 -0500 (Mon, 27 Jan 2025) EllapsedTime: 71.2 seconds RetCode: 0 Status: OK