Package: PCAtools Version: 2.18.0 Command: /Library/Frameworks/R.framework/Resources/bin/R CMD build --keep-empty-dirs --no-resave-data PCAtools StartedAt: 2025-03-31 20:55:44 -0400 (Mon, 31 Mar 2025) EndedAt: 2025-03-31 20:58:44 -0400 (Mon, 31 Mar 2025) EllapsedTime: 180.1 seconds RetCode: 1 Status: ERROR PackageFile: None PackageFileSize: NA