Package: PCAtools Version: 2.18.0 Command: rm -rf PCAtools.buildbin-libdir && mkdir PCAtools.buildbin-libdir && /Users/biocbuild/BBS/utils/build-universal.sh PCAtools_2.18.0.tar.gz /Library/Frameworks/R.framework/Resources/bin/R PCAtools.buildbin-libdir StartedAt: 2024-11-09 17:03:46 -0500 (Sat, 09 Nov 2024) EndedAt: 2024-11-09 17:03:59 -0500 (Sat, 09 Nov 2024) EllapsedTime: 13.2 seconds RetCode: 0 Status: OK PackageFile: PCAtools_2.18.0.tgz PackageFileSize: 5.947 MiB