Package: PCAtools Version: 2.18.0 Command: /Library/Frameworks/R.framework/Resources/bin/R CMD check --install=check:PCAtools.install-out.txt --library=/Library/Frameworks/R.framework/Resources/library --no-vignettes --timings PCAtools_2.18.0.tar.gz StartedAt: 2025-03-29 03:31:56 -0400 (Sat, 29 Mar 2025) EndedAt: 2025-03-29 03:36:02 -0400 (Sat, 29 Mar 2025) EllapsedTime: 245.7 seconds RetCode: 0 Status: OK CheckDir: PCAtools.Rcheck Warnings: 0