Package: PCAtools Version: 2.18.0 Command: /Library/Frameworks/R.framework/Resources/bin/R CMD build --keep-empty-dirs --no-resave-data PCAtools StartedAt: 2025-04-01 04:59:24 -0400 (Tue, 01 Apr 2025) EndedAt: 2025-04-01 05:00:42 -0400 (Tue, 01 Apr 2025) EllapsedTime: 77.3 seconds RetCode: 1 Status: ERROR PackageFile: None PackageFileSize: NA