Package: PCAtools Version: 2.18.0 Command: rm -rf PCAtools.buildbin-libdir && mkdir PCAtools.buildbin-libdir && /Users/biocbuild/BBS/utils/build-universal.sh PCAtools_2.18.0.tar.gz /Library/Frameworks/R.framework/Resources/bin/R PCAtools.buildbin-libdir StartedAt: 2025-03-29 15:11:33 -0400 (Sat, 29 Mar 2025) EndedAt: 2025-03-29 15:12:16 -0400 (Sat, 29 Mar 2025) EllapsedTime: 43.0 seconds RetCode: 0 Status: OK PackageFile: PCAtools_2.18.0.tgz PackageFileSize: 5.956 MiB