Package: PCAN Version: 1.34.0 Command: /Library/Frameworks/R.framework/Resources/bin/R CMD INSTALL PCAN StartedAt: 2025-01-27 15:30:35 -0500 (Mon, 27 Jan 2025) EndedAt: 2025-01-27 15:30:41 -0500 (Mon, 27 Jan 2025) EllapsedTime: 5.4 seconds RetCode: 0 Status: OK