Package: PAST Version: 1.22.0 Command: chmod a+r PAST -R && F:\biocbuild\bbs-3.20-bioc\R\bin\R.exe CMD build --keep-empty-dirs --no-resave-data PAST StartedAt: 2025-03-31 20:53:16 -0400 (Mon, 31 Mar 2025) EndedAt: 2025-03-31 20:55:31 -0400 (Mon, 31 Mar 2025) EllapsedTime: 135.4 seconds RetCode: 0 Status: OK PackageFile: PAST_1.22.0.tar.gz PackageFileSize: 954.3 KiB