Package: PAST Version: 1.22.0 Command: rm -rf PAST.buildbin-libdir && mkdir PAST.buildbin-libdir && /Users/biocbuild/BBS/utils/build-universal.sh PAST_1.22.0.tar.gz /Library/Frameworks/R.framework/Resources/bin/R PAST.buildbin-libdir StartedAt: 2025-04-01 12:25:48 -0400 (Tue, 01 Apr 2025) EndedAt: 2025-04-01 12:26:58 -0400 (Tue, 01 Apr 2025) EllapsedTime: 70.0 seconds RetCode: 0 Status: OK PackageFile: PAST_1.22.0.tgz PackageFileSize: 1008 KiB