Package: PAST Version: 1.22.0 Command: /Library/Frameworks/R.framework/Resources/bin/R CMD build --keep-empty-dirs --no-resave-data PAST StartedAt: 2025-01-28 05:08:54 -0500 (Tue, 28 Jan 2025) EndedAt: 2025-01-28 05:11:19 -0500 (Tue, 28 Jan 2025) EllapsedTime: 144.6 seconds RetCode: 0 Status: OK PackageFile: PAST_1.22.0.tar.gz PackageFileSize: 954.4 KiB