Package: PAST Version: 1.22.0 Command: rm -rf PAST.buildbin-libdir && mkdir PAST.buildbin-libdir && /Users/biocbuild/BBS/utils/build-universal.sh PAST_1.22.0.tar.gz /Library/Frameworks/R.framework/Resources/bin/R PAST.buildbin-libdir StartedAt: 2025-01-29 15:52:22 -0500 (Wed, 29 Jan 2025) EndedAt: 2025-01-29 15:53:04 -0500 (Wed, 29 Jan 2025) EllapsedTime: 42.8 seconds RetCode: 0 Status: OK PackageFile: PAST_1.22.0.tgz PackageFileSize: 1008 KiB