Package: PAIRADISE Version: 1.22.0 Command: /home/biocbuild/R/R/bin/R CMD INSTALL PAIRADISE StartedAt: 2025-03-31 20:25:38 -0000 (Mon, 31 Mar 2025) EndedAt: 2025-03-31 20:26:03 -0000 (Mon, 31 Mar 2025) EllapsedTime: 25.0 seconds RetCode: 0 Status: OK