Package: PAIRADISE Version: 1.22.0 Command: /home/biocbuild/R/R/bin/R CMD build --keep-empty-dirs --no-resave-data PAIRADISE StartedAt: 2025-04-01 01:25:38 -0000 (Tue, 01 Apr 2025) EndedAt: 2025-04-01 01:26:22 -0000 (Tue, 01 Apr 2025) EllapsedTime: 44.0 seconds RetCode: 0 Status: OK PackageFile: PAIRADISE_1.22.0.tar.gz PackageFileSize: 386.1 KiB