Package: PAIRADISE Version: 1.22.0 Command: /Library/Frameworks/R.framework/Resources/bin/R CMD INSTALL PAIRADISE StartedAt: 2025-03-31 15:23:57 -0400 (Mon, 31 Mar 2025) EndedAt: 2025-03-31 15:24:40 -0400 (Mon, 31 Mar 2025) EllapsedTime: 43.1 seconds RetCode: 0 Status: OK