Package: PAIRADISE Version: 1.22.0 Command: rm -rf PAIRADISE.buildbin-libdir && mkdir PAIRADISE.buildbin-libdir && /Users/biocbuild/BBS/utils/build-universal.sh PAIRADISE_1.22.0.tar.gz /Library/Frameworks/R.framework/Resources/bin/R PAIRADISE.buildbin-libdir StartedAt: 2025-01-28 14:02:06 -0500 (Tue, 28 Jan 2025) EndedAt: 2025-01-28 14:03:30 -0500 (Tue, 28 Jan 2025) EllapsedTime: 84.1 seconds RetCode: 0 Status: OK PackageFile: PAIRADISE_1.22.0.tgz PackageFileSize: 382.2 KiB