Package: PAIRADISE Version: 1.22.0 Command: /Library/Frameworks/R.framework/Resources/bin/R CMD build --keep-empty-dirs --no-resave-data PAIRADISE StartedAt: 2025-02-04 05:14:07 -0500 (Tue, 04 Feb 2025) EndedAt: 2025-02-04 05:15:12 -0500 (Tue, 04 Feb 2025) EllapsedTime: 65.5 seconds RetCode: 0 Status: OK PackageFile: PAIRADISE_1.22.0.tar.gz PackageFileSize: 320.6 KiB