Package: PAA Version: 1.40.0 Command: F:\biocbuild\bbs-3.20-bioc\R\bin\R.exe CMD check --no-multiarch --install=check:PAA.install-out.txt --library=F:\biocbuild\bbs-3.20-bioc\R\library --no-vignettes --timings PAA_1.40.0.tar.gz StartedAt: 2025-01-28 04:22:41 -0500 (Tue, 28 Jan 2025) EndedAt: 2025-01-28 04:27:34 -0500 (Tue, 28 Jan 2025) EllapsedTime: 292.8 seconds RetCode: 0 Status: OK CheckDir: PAA.Rcheck Warnings: 0